BEGIN:VCALENDAR
VERSION:2.0
PRODID:-//ChamberMaster//Event Calendar 2.0//EN
METHOD:PUBLISH
X-PUBLISHED-TTL:P3D
REFRESH-INTERVAL:P3D
CALSCALE:GREGORIAN
BEGIN:VEVENT
DTSTART:20230720T163000Z
DTEND:20230720T180000Z
X-MICROSOFT-CDO-ALLDAYEVENT:FALSE
SUMMARY:Women's Network July Luncheon
DESCRIPTION:Join us as we hear from Matt Moore as he speaks on the importance of Mentoring and Male Sponsorship for Women in the Workplace and in the Community. \n\n\n\n\n\nDoors will open at 11:30 a.m. and the formal program will begin at 11:50. See you there!\n\n\nAdvance registration is appreciated. Online pre-registration is $20 for members and $25 for guests until 5:00 p.m. on Tuesday\, July 18. After the pre-registration deadline\, walk-in attendees can pay at the door for $30.
X-ALT-DESC;FMTTYPE=text/html:Join us as we hear from Matt Moore as he speaks on the importance of Mentoring and Male Sponsorship for Women in the Workplace and in the Community.&nbsp\;<br />\n<br />\n<br />\n<span style="font-family:verdana\;"><span style="font-size:14px\;">Doors will open at 11:30 a.m. and the formal program will begin at 11:50.&nbsp\;</span></span><span style="font-size:14px\;"><span style="font-family:verdana\;"><span style="color:#000000\;">See you there!</span></span></span>\n<div style="color:rgb(51\, 51\, 51)\;font-family:sans-serif\, Arial\, Verdana\, Trebuchet MS\;font-size:13px\;"><br />\n<span style="white-space-collapse:preserve\;"><span style="font-size:14px\;"><span style="font-family:verdana\;">Advance registration is appreciated.&nbsp\;</span></span></span><span style="white-space-collapse:preserve\;box-sizing:content-box\;font-weight:bolder\;inset:auto\;clear:none\;content:normal\;direction:inherit\;empty-cells:show\;font-variant-numeric:inherit\;font-stretch:inherit\;max-height:none\;max-width:none\;min-height:initial\;min-width:initial\;opacity:1\;outline-offset:0px\;overflow:visible\;padding:0px\;position:static\;resize:none\;table-layout:auto\;text-overflow:clip\;vertical-align:baseline\;visibility:inherit\;word-break:inherit\;overflow-wrap:inherit\;z-index:auto\;background-image:none\;background-position:initial\;background-size:initial\;background-repeat:initial\;background-attachment:initial\;background-origin:initial\;background-clip:initial\;border:none\;border-collapse:separate\;border-radius:0px\;height:auto\;width:auto\;box-shadow:none\;"><span style="font-size:14px\;"><span style="font-family:verdana\;">Online pre-registration is $20 for members and $25 for guests until 5:00&nbsp\;p.m. on Tuesday\, July 18.</span></span></span>&nbsp\;<em style="font-family:verdana\;font-size:14px\;white-space-collapse:preserve\;"><span style="box-sizing:content-box\;font-weight:bolder\;inset:auto\;clear:none\;content:normal\;direction:inherit\;empty-cells:show\;font-variant-numeric:inherit\;font-stretch:inherit\;max-height:none\;max-width:none\;min-height:initial\;min-width:initial\;opacity:1\;outline-offset:0px\;overflow:visible\;padding:0px\;position:static\;resize:none\;table-layout:auto\;text-overflow:clip\;vertical-align:baseline\;visibility:inherit\;word-break:inherit\;overflow-wrap:inherit\;z-index:auto\;background-image:none\;background-position:initial\;background-size:initial\;background-repeat:initial\;background-attachment:initial\;background-origin:initial\;background-clip:initial\;border:none\;border-collapse:separate\;border-radius:0px\;height:auto\;width:auto\;box-shadow:none\;">After&nbsp\;the pre-registration deadline\, walk-in attendees can pay&nbsp\;at the door for $30.</span></em></div>\n
LOCATION:Boone Electric Community Room 1413 Rangeline St. Columbia\, MO 65201
UID:e.2790.10927
SEQUENCE:3
DTSTAMP:20260419T163257Z
URL:https://business.columbiamochamber.com/events/details/women-s-network-july-luncheon-10927
END:VEVENT

END:VCALENDAR
