BEGIN:VCALENDAR
VERSION:2.0
PRODID:-//ChamberMaster//Event Calendar 2.0//EN
METHOD:PUBLISH
X-PUBLISHED-TTL:P3D
REFRESH-INTERVAL:P3D
CALSCALE:GREGORIAN
BEGIN:VEVENT
DTSTART:20250603T200000Z
DTEND:20250603T203000Z
X-MICROSOFT-CDO-ALLDAYEVENT:FALSE
SUMMARY:RIBBON CUTTING: Wally Pfeffer 5\,000 Point Tree Dedication
DESCRIPTION:Ambassadors will conduct a ribbon cutting to dedicate a tree in honor of Wally Pfeffer reaching 5\,000 Ambassador points.
X-ALT-DESC;FMTTYPE=text/html:Ambassadors will conduct a ribbon cutting to dedicate a tree in honor of Wally Pfeffer reaching 5\,000 Ambassador points.&nbsp\;
LOCATION:Fairview Park 1001 S. Fairview Rd. Columbia\, MO 65203
UID:e.2790.12024
SEQUENCE:3
DTSTAMP:20260420T184416Z
URL:https://business.columbiamochamber.com/events/details/ribbon-cutting-wally-pfeffer-5-000-point-tree-dedication-12024
END:VEVENT

END:VCALENDAR
