BEGIN:VCALENDAR
VERSION:2.0
PRODID:-//ChamberMaster//Event Calendar 2.0//EN
METHOD:PUBLISH
X-PUBLISHED-TTL:P3D
REFRESH-INTERVAL:P3D
CALSCALE:GREGORIAN
BEGIN:VEVENT
DTSTART:20251112T181500Z
DTEND:20251112T181500Z
X-MICROSOFT-CDO-ALLDAYEVENT:FALSE
SUMMARY:RIBBON CUTTING: The Missouri Symphony
DESCRIPTION:The Ambassadors will perform a ribbon cutting to announce the reveal of the 2025 holiday home tour.
X-ALT-DESC;FMTTYPE=text/html:<!--StartFragment--><span data-olk-copy-source="MessageBody" style="font-family: Arial\, sans-serif\; font-size: 11pt\; color: black\;">The Ambassadors will perform a ribbon cutting to announce the reveal of the 2025 holiday home tour.</span><!--EndFragment-->
LOCATION:
UID:e.2790.12269
SEQUENCE:3
DTSTAMP:20260420T145611Z
URL:https://business.columbiamochamber.com/events/details/ribbon-cutting-the-missouri-symphony-12269
END:VEVENT

END:VCALENDAR
