BEGIN:VCALENDAR
VERSION:2.0
PRODID:-//ChamberMaster//Event Calendar 2.0//EN
METHOD:PUBLISH
X-PUBLISHED-TTL:P3D
REFRESH-INTERVAL:P3D
CALSCALE:GREGORIAN
BEGIN:VEVENT
DTSTART:20250924T150000Z
DTEND:20250924T150000Z
X-MICROSOFT-CDO-ALLDAYEVENT:FALSE
SUMMARY:RIBBON CUTTING: State Farm-Hannah Gandt
DESCRIPTION:The Ambassadors will perform a ribbon cutting to celebrate the Grand Opening of State Farm- Hannah Gandt Office.
X-ALT-DESC;FMTTYPE=text/html:<p style="margin-top: 0px\; margin-bottom: 0px\; font-family: Aptos\, sans-serif\;"><span style="font-family: Arial\, Helvetica\, sans-serif\; font-size: 11pt\; color: rgb(0\, 0\, 0)\;">The Ambassadors will perform a ribbon cutting to celebrate the Grand Opening of State Farm- Hannah Gandt Office.</span></p>\n
LOCATION:3215 S Providence Rd Suite 1 Columbia\, MO Missouri 65203 United States
UID:e.2790.12241
SEQUENCE:3
DTSTAMP:20260420T145723Z
URL:https://business.columbiamochamber.com/events/details/ribbon-cutting-state-farm-hannah-gandt-12241
END:VEVENT

END:VCALENDAR
