BEGIN:VCALENDAR
VERSION:2.0
PRODID:-//ChamberMaster//Event Calendar 2.0//EN
METHOD:PUBLISH
X-PUBLISHED-TTL:P3D
REFRESH-INTERVAL:P3D
CALSCALE:GREGORIAN
BEGIN:VEVENT
DTSTART:20230720T133000Z
DTEND:20230720T140000Z
X-MICROSOFT-CDO-ALLDAYEVENT:FALSE
SUMMARY:RIBBON CUTTING: Shelter Insurance
DESCRIPTION:Ambassadors will host a ribbon cutting celebrating Shelter Insurance's Annual Torch Run Finale for the Show-Me-State Games.
X-ALT-DESC;FMTTYPE=text/html:<span style="font-size:14px\;"><span style="font-family:verdana\;">Ambassadors will host a ribbon cutting celebrating Shelter Insurance&#39\;s Annual Torch Run Finale for the Show-Me-State Games.</span></span>
LOCATION:Shelter Insurance Corporate Office 1817 W. Broadway Columbia MO\, 65218
UID:e.2790.11073
SEQUENCE:3
DTSTAMP:20260419T163405Z
URL:https://business.columbiamochamber.com/events/details/ribbon-cutting-shelter-insurance-11073
END:VEVENT

END:VCALENDAR
