BEGIN:VCALENDAR
VERSION:2.0
PRODID:-//ChamberMaster//Event Calendar 2.0//EN
METHOD:PUBLISH
X-PUBLISHED-TTL:P3D
REFRESH-INTERVAL:P3D
CALSCALE:GREGORIAN
BEGIN:VEVENT
DTSTART:20260514T201500Z
DTEND:20260514T204500Z
X-MICROSOFT-CDO-ALLDAYEVENT:FALSE
SUMMARY:RIBBON CUTTING: Rho Engine Room
DESCRIPTION:Ambassadors will cut the ribbon to commemorate eight years of business in Columbia and the launch of 2 new rowers to their fleet and newly expanded programming\,
X-ALT-DESC;FMTTYPE=text/html:Ambassadors will cut the ribbon to commemorate eight years of business in Columbia and the launch of 2 new rowers to their fleet and newly expanded programming\,
LOCATION:Rho Engine Room 10 W. Nifong Blvd. Suite 115 Columbia\, Missouri 65203
UID:e.2790.12325
SEQUENCE:3
DTSTAMP:20260421T001916Z
URL:https://business.columbiamochamber.com/events/details/ribbon-cutting-rho-engine-room-12325
END:VEVENT

END:VCALENDAR
