BEGIN:VCALENDAR
VERSION:2.0
PRODID:-//ChamberMaster//Event Calendar 2.0//EN
METHOD:PUBLISH
X-PUBLISHED-TTL:P3D
REFRESH-INTERVAL:P3D
CALSCALE:GREGORIAN
BEGIN:VEVENT
DTSTART:20250902T151500Z
DTEND:20250902T151500Z
X-MICROSOFT-CDO-ALLDAYEVENT:FALSE
SUMMARY:RIBBON CUTTING: Qdoba
DESCRIPTION:The Ambassadors will perform a ribbon cutting to celebrate the Grand Opening of Qdoba.
X-ALT-DESC;FMTTYPE=text/html:The Ambassadors will perform a ribbon cutting to celebrate the Grand Opening of Qdoba.
LOCATION:Qdoba 821 Elm St. Columbia\, MO 65201
UID:e.2790.12150
SEQUENCE:3
DTSTAMP:20260420T160245Z
URL:https://business.columbiamochamber.com/events/details/ribbon-cutting-qdoba-12150
END:VEVENT

END:VCALENDAR
