BEGIN:VCALENDAR
VERSION:2.0
PRODID:-//ChamberMaster//Event Calendar 2.0//EN
METHOD:PUBLISH
X-PUBLISHED-TTL:P3D
REFRESH-INTERVAL:P3D
CALSCALE:GREGORIAN
BEGIN:VEVENT
DTSTART:20250808T213000Z
DTEND:20250808T220000Z
X-MICROSOFT-CDO-ALLDAYEVENT:FALSE
SUMMARY:RIBBON CUTTING: Masonic Home of Missouri
DESCRIPTION:The Ambassadors will perform a ribbon cutting to celebrate the Ending inaugural Masonic Service Day Events.
X-ALT-DESC;FMTTYPE=text/html:The Ambassadors will perform a ribbon cutting to celebrate the&nbsp\;<span style="font-family:arial\,sans-serif\;"><span style="font-size:9.0pt\;">Ending inaugural Masonic Service Day Events.&nbsp\;</span></span>
LOCATION:6033 Masonic Dr. Ste. A Columbia\, MO 65202
UID:e.2790.12040
SEQUENCE:3
DTSTAMP:20260420T161830Z
URL:https://business.columbiamochamber.com/events/details/ribbon-cutting-masonic-home-of-missouri-12040
END:VEVENT

END:VCALENDAR
