BEGIN:VCALENDAR
VERSION:2.0
PRODID:-//ChamberMaster//Event Calendar 2.0//EN
METHOD:PUBLISH
X-PUBLISHED-TTL:P3D
REFRESH-INTERVAL:P3D
CALSCALE:GREGORIAN
BEGIN:VEVENT
DTSTART:20251121T223000Z
DTEND:20251121T223000Z
X-MICROSOFT-CDO-ALLDAYEVENT:FALSE
SUMMARY:RIBBON CUTTING: Junior Achievement of Central Missouri
DESCRIPTION:Join us to celebrate the 4th Annual Merry Moments with Santa & Mrs. Claus!
X-ALT-DESC;FMTTYPE=text/html:<span style="font-family: Aptos\, Aptos_EmbeddedFont\, Aptos_MSFontService\, Calibri\, Helvetica\, sans-serif\; font-size: 12pt\; color: rgb(0\, 0\, 0)\;">Join us to celebrate the 4<sup>th</sup>&nbsp\;Annual Merry Moments with Santa &amp\; Mrs. Claus!</span>
LOCATION:106 Orr Street Missouri 65201 United States
UID:e.2790.12252
SEQUENCE:3
DTSTAMP:20260420T161044Z
URL:https://business.columbiamochamber.com/events/details/ribbon-cutting-junior-achievement-of-central-missouri-12252
END:VEVENT

END:VCALENDAR
