BEGIN:VCALENDAR
VERSION:2.0
PRODID:-//ChamberMaster//Event Calendar 2.0//EN
METHOD:PUBLISH
X-PUBLISHED-TTL:P3D
REFRESH-INTERVAL:P3D
CALSCALE:GREGORIAN
BEGIN:VEVENT
DTSTART:20240809T210000Z
DTEND:20240809T213000Z
X-MICROSOFT-CDO-ALLDAYEVENT:FALSE
SUMMARY:RIBBON CUTTING: Jowin's Kitchen
DESCRIPTION:Ambassadors host a ribbon cutting celebrating Jowin's Kitchen's Grand Opening.
X-ALT-DESC;FMTTYPE=text/html:<span style="font-size:14px\;"><span style="font-family:verdana\;">Ambassadors host a ribbon cutting celebrating Jowin&#39\;s Kitchen&#39\;s Grand Opening.</span></span>
LOCATION:Jowin's Kitchen 601 W Business Loop Ste. 203 Columbia MO 65203
UID:e.2790.11461
SEQUENCE:3
DTSTAMP:20260423T085103Z
URL:https://business.columbiamochamber.com/events/details/ribbon-cutting-jowin-s-kitchen-11461
END:VEVENT

END:VCALENDAR
