BEGIN:VCALENDAR
VERSION:2.0
PRODID:-//ChamberMaster//Event Calendar 2.0//EN
METHOD:PUBLISH
X-PUBLISHED-TTL:P3D
REFRESH-INTERVAL:P3D
CALSCALE:GREGORIAN
BEGIN:VEVENT
DTSTART:20260520T160000Z
DTEND:20260520T163000Z
X-MICROSOFT-CDO-ALLDAYEVENT:FALSE
SUMMARY:RIBBON CUTTING: Henderson Products
DESCRIPTION:Ambassadors will cut a ceremonial ribbon to commemorate a new facility opening in Columbia.
X-ALT-DESC;FMTTYPE=text/html:Ambassadors will cut a ceremonial ribbon to commemorate a new facility opening in Columbia.
LOCATION:6808 Stephens Station Road Columbia Missouri 65202
UID:e.2790.12324
SEQUENCE:3
DTSTAMP:20260421T002029Z
URL:https://business.columbiamochamber.com/events/details/ribbon-cutting-henderson-products-12324
END:VEVENT

END:VCALENDAR
