BEGIN:VCALENDAR
VERSION:2.0
PRODID:-//ChamberMaster//Event Calendar 2.0//EN
METHOD:PUBLISH
X-PUBLISHED-TTL:P3D
REFRESH-INTERVAL:P3D
CALSCALE:GREGORIAN
BEGIN:VEVENT
DTSTART:20250813T173000Z
DTEND:20250813T180000Z
X-MICROSOFT-CDO-ALLDAYEVENT:FALSE
SUMMARY:RIBBON CUTTING: Focus on Health Chiropractic
DESCRIPTION:The Ambassadors will perform a ribbon cutting to celebrate the 15 year Anniversary of Focus on Health Chiropractic\, as well as welcoming their new Dr.
X-ALT-DESC;FMTTYPE=text/html:The Ambassadors will perform a ribbon cutting to celebrate the 15 year Anniversary of Focus on Health Chiropractic\, as well as welcoming their new Dr.&nbsp\;
LOCATION:4200 Merchant St.\, Ste 105\, Columbia\, MO 65203
UID:e.2790.12109
SEQUENCE:3
DTSTAMP:20260420T161439Z
URL:https://business.columbiamochamber.com/events/details/ribbon-cutting-focus-on-health-chiropractic-12109
END:VEVENT

END:VCALENDAR
