BEGIN:VCALENDAR
VERSION:2.0
PRODID:-//ChamberMaster//Event Calendar 2.0//EN
METHOD:PUBLISH
X-PUBLISHED-TTL:P3D
REFRESH-INTERVAL:P3D
CALSCALE:GREGORIAN
BEGIN:VEVENT
DTSTART:20251030T213000Z
DTEND:20251030T213000Z
X-MICROSOFT-CDO-ALLDAYEVENT:FALSE
SUMMARY:RIBBON CUTTING: First Midwest Bank
DESCRIPTION:The Ambassadors will perform a ribbon cutting to celebrate the 15 \n\n Year Anniversary for First Midwest Bank.
X-ALT-DESC;FMTTYPE=text/html:<div style="margin: 0in\; font-family: Arial\, Helvetica\, sans-serif\; font-size: 11pt\; color: rgb(0\, 0\, 0)\;">The Ambassadors will perform a ribbon cutting to celebrate the 15&nbsp\;</div>\n\n<div style="margin: 0in\; font-family: Arial\, Helvetica\, sans-serif\; font-size: 11pt\; color: rgb(0\, 0\, 0)\;">&nbsp\;Year Anniversary for First Midwest Bank.&nbsp\;</div>\n
LOCATION:1411 Grindstone Pkwy\, Columbia MO 65203 United States
UID:e.2790.12247
SEQUENCE:3
DTSTAMP:20260420T111642Z
URL:https://business.columbiamochamber.com/events/details/ribbon-cutting-first-midwest-bank-12247
END:VEVENT

END:VCALENDAR
