BEGIN:VCALENDAR
VERSION:2.0
PRODID:-//ChamberMaster//Event Calendar 2.0//EN
METHOD:PUBLISH
X-PUBLISHED-TTL:P3D
REFRESH-INTERVAL:P3D
CALSCALE:GREGORIAN
BEGIN:VEVENT
DTSTART;VALUE=DATE:20250627
DTEND;VALUE=DATE:20250628
TRANSP:TRANSPARENT
X-MICROSOFT-CDO-ALLDAYEVENT:TRUE
SUMMARY:RIBBON CUTTING: Columbia Second Chance
DESCRIPTION:The Ambassadors will perform a ribbon cutting to help promote Second Chance's 40th Anniversary Open House on Saturday\, June 28th.
X-ALT-DESC;FMTTYPE=text/html:The Ambassadors will perform a ribbon cutting to help promote Second Chance&#39\;s 40th Anniversary Open House on Saturday\, June 28th.&nbsp\;
LOCATION:24687 Highway 179\, Boonville\, MO 65233 Missouri 65233
UID:e.2790.12039
SEQUENCE:3
DTSTAMP:20260420T184407Z
URL:https://business.columbiamochamber.com/events/details/ribbon-cutting-columbia-second-chance-12039
END:VEVENT

END:VCALENDAR
