BEGIN:VCALENDAR
VERSION:2.0
PRODID:-//ChamberMaster//Event Calendar 2.0//EN
METHOD:PUBLISH
X-PUBLISHED-TTL:P3D
REFRESH-INTERVAL:P3D
CALSCALE:GREGORIAN
BEGIN:VEVENT
DTSTART:20250814T210000Z
DTEND:20250814T213000Z
X-MICROSOFT-CDO-ALLDAYEVENT:FALSE
SUMMARY:RIBBON CUTTING: Columbia Housing Authority
DESCRIPTION:The Ambassadors will perform a ribbon cutting to celebrate the Park Avenue Redevelopment.
X-ALT-DESC;FMTTYPE=text/html:The Ambassadors will perform a ribbon cutting to celebrate the Park Avenue Redevelopment.
LOCATION:Park Avenue Apartments 318 Park Ave. Columbia\, MO 65203
UID:e.2790.12116
SEQUENCE:3
DTSTAMP:20260420T172509Z
URL:https://business.columbiamochamber.com/events/details/ribbon-cutting-columbia-housing-authority-12116
END:VEVENT

END:VCALENDAR
