BEGIN:VCALENDAR
VERSION:2.0
PRODID:-//ChamberMaster//Event Calendar 2.0//EN
METHOD:PUBLISH
X-PUBLISHED-TTL:P3D
REFRESH-INTERVAL:P3D
CALSCALE:GREGORIAN
BEGIN:VEVENT
DTSTART:20250924T210000Z
DTEND:20250924T211500Z
X-MICROSOFT-CDO-ALLDAYEVENT:FALSE
SUMMARY:RIBBON CUTTING: Columbia Chamber of Commerce- Non-Profit of the Year Finalists
DESCRIPTION:The Ambassadors will perform a ribbon cutting to celebrate the Non-Profit of the Year Finalists.
X-ALT-DESC;FMTTYPE=text/html:<span style="font-family: Aptos\, Aptos_EmbeddedFont\, Aptos_MSFontService\, Calibri\, Helvetica\, sans-serif\; font-size: 12pt\; color: rgb(0\, 0\, 0)\;">The Ambassadors will perform a ribbon cutting to celebrate the Non-Profit of the Year Finalists.&nbsp\;</span>
LOCATION:1111 E Broadway\, Columbia\, MO 65201 Missouri 65202 United States
UID:e.2790.12250
SEQUENCE:3
DTSTAMP:20260420T150516Z
URL:https://business.columbiamochamber.com/events/details/ribbon-cutting-columbia-chamber-of-commerce-non-profit-of-the-year-finalists-12250
END:VEVENT

END:VCALENDAR
