BEGIN:VCALENDAR
VERSION:2.0
PRODID:-//ChamberMaster//Event Calendar 2.0//EN
METHOD:PUBLISH
X-PUBLISHED-TTL:P3D
REFRESH-INTERVAL:P3D
CALSCALE:GREGORIAN
BEGIN:VEVENT
DTSTART:20251009T223000Z
DTEND:20251009T223000Z
X-MICROSOFT-CDO-ALLDAYEVENT:FALSE
SUMMARY:RIBBON CUTTING: City of Columbia
DESCRIPTION:The Ambassadors will perform a ribbon cutting to celebrate the 30th anniversary of the commissioning of the USS Columbia.
X-ALT-DESC;FMTTYPE=text/html:<p style="margin-top: 0px\; margin-bottom: 0px\; font-family: Aptos\, sans-serif\;"><span style="font-family: Arial\, Helvetica\, sans-serif\; font-size: 12pt\; color: rgb(0\, 0\, 0)\;">The Ambassadors will perform a ribbon cutting to celebrate the 30th anniversary of the commissioning of the USS Columbia.</span></p>\n
LOCATION:701 E Broadway Columbia\, MO 65201\, Columbia City Hall\, Room 1A/1B
UID:e.2790.12254
SEQUENCE:3
DTSTAMP:20260420T123908Z
URL:https://business.columbiamochamber.com/events/details/ribbon-cutting-city-of-columbia-12254
END:VEVENT

END:VCALENDAR
