BEGIN:VCALENDAR
VERSION:2.0
PRODID:-//ChamberMaster//Event Calendar 2.0//EN
METHOD:PUBLISH
X-PUBLISHED-TTL:P3D
REFRESH-INTERVAL:P3D
CALSCALE:GREGORIAN
BEGIN:VEVENT
DTSTART:20260205T193000Z
DTEND:20260205T200000Z
X-MICROSOFT-CDO-ALLDAYEVENT:FALSE
SUMMARY:RIBBON CUTTING: Center Pointe Hospital
DESCRIPTION:The Ambassadors will provide a ribbon cutting in celebration of Center Pointe's Adolescent and Adult new addition.
X-ALT-DESC;FMTTYPE=text/html:The Ambassadors will provide a ribbon cutting in celebration of Center Pointe&#39\;s Adolescent and Adult new addition.
LOCATION:Center Pointe Hospital 1201 International Drive Columbia\, MO 65202
UID:e.2790.12280
SEQUENCE:3
DTSTAMP:20260420T195501Z
URL:https://business.columbiamochamber.com/events/details/ribbon-cutting-center-pointe-hospital-12280
END:VEVENT

END:VCALENDAR
