BEGIN:VCALENDAR
VERSION:2.0
PRODID:-//ChamberMaster//Event Calendar 2.0//EN
METHOD:PUBLISH
X-PUBLISHED-TTL:P3D
REFRESH-INTERVAL:P3D
CALSCALE:GREGORIAN
BEGIN:VEVENT
DTSTART:20230706T213000Z
DTEND:20230706T220000Z
X-MICROSOFT-CDO-ALLDAYEVENT:FALSE
SUMMARY:RIBBON CUTTING: Bear Creek Family Dental
DESCRIPTION:Ambassadors will host a ribbon cutting celebrating Bear Creek Family Dental's 5-year Anniversary and Open House.
X-ALT-DESC;FMTTYPE=text/html:<span style="font-size:14px\;"><span style="font-family:verdana\;">Ambassadors will host a ribbon cutting celebrating Bear Creek Family Dental&#39\;s 5-year Anniversary and Open House.</span></span>
LOCATION:Bear Creek Family Dental 2601 Rangline Street\, Ste. 111 Columbia MO 65202
UID:e.2790.10930
SEQUENCE:3
DTSTAMP:20260419T164201Z
URL:https://business.columbiamochamber.com/events/details/ribbon-cutting-bear-creek-family-dental-07-06-2023-10930
END:VEVENT

END:VCALENDAR
