BEGIN:VCALENDAR
VERSION:2.0
PRODID:-//ChamberMaster//Event Calendar 2.0//EN
METHOD:PUBLISH
X-PUBLISHED-TTL:P3D
REFRESH-INTERVAL:P3D
CALSCALE:GREGORIAN
BEGIN:VEVENT
DTSTART:20250904T203000Z
DTEND:20250904T220000Z
X-MICROSOFT-CDO-ALLDAYEVENT:FALSE
SUMMARY:Leadership Columbia Chair Orientation
DESCRIPTION:Calling all incoming Session Chairs for Leadership Columbia   this orientation is your first step in helping shape an unforgettable experience for the Class of 2026!\n\nJoin us for an overview of expectations\, resources\, and best practices to help you plan and lead a successful session. You'll meet fellow chairs\, review sample agendas\, and get a clear picture of how your role supports the overall mission of Leadership Columbia.
X-ALT-DESC;FMTTYPE=text/html:<p data-end="381" data-start="212">Calling all incoming Session Chairs for <strong data-end="275" data-start="252">Leadership Columbia</strong> &mdash\; this orientation is your first step in helping shape an unforgettable experience for the Class of 2026!</p>\n\n<p data-end="645" data-start="383">Join us for an overview of expectations\, resources\, and best practices to help you plan and lead a successful session. You&rsquo\;ll meet fellow chairs\, review sample agendas\, and get a clear picture of how your role supports the overall mission of Leadership Columbia.</p>\n
LOCATION:Columbia Chamber of Commerce Walton Building 300 S. Providence
UID:e.2790.12105
SEQUENCE:3
DTSTAMP:20260420T160958Z
URL:https://business.columbiamochamber.com/events/details/leadership-columbia-chair-orientation-12105
END:VEVENT

END:VCALENDAR
