BEGIN:VCALENDAR
VERSION:2.0
PRODID:-//ChamberMaster//Event Calendar 2.0//EN
METHOD:PUBLISH
X-PUBLISHED-TTL:P3D
REFRESH-INTERVAL:P3D
CALSCALE:GREGORIAN
BEGIN:VEVENT
DTSTART:20240418T123000Z
DTEND:20240418T140000Z
X-MICROSOFT-CDO-ALLDAYEVENT:FALSE
SUMMARY:EPIC Community Engagement Breakfast: Emerging Artists
DESCRIPTION:Spend a morning engaging your creativity with Access Arts. We'll be joined by Sarah Catlin\, Executive Director\, and Lisa Franko\, Director of Youth Programs\, who will share more about the ways Access Arts serves our community and lead us in a hands-on art project. \n\n \n\nLisa and Sarah will guide you through the process of simple book binding to create your own personalized blank books. Materials will be provided to decorate books in any number of ways\, and each participant will leave with a handmade book ready to be filled with notes\, sketches\, recipes and more! \n\n \n\nBook-making has a long and rich history\, and it provides you with a beautifully decorated space to keep your thoughts and notes handy. Journaling and sketching are also proven ways to meditate and tap into your creative side!
X-ALT-DESC;FMTTYPE=text/html:<p class="x_elementToProof" style="margin-top: 0px\; margin-bottom: 0px\; color: rgb(36\, 36\, 36)\; font-family: &quot\;Segoe UI&quot\;\, &quot\;Segoe UI Web (West European)&quot\;\, &quot\;Segoe UI&quot\;\, -apple-system\, BlinkMacSystemFont\, Roboto\, &quot\;Helvetica Neue&quot\;\, sans-serif\; font-size: 15px\;"><span style="border: 0px\; font-style: inherit\; font-variant: inherit\; font-weight: inherit\; font-stretch: inherit\; font-size: 11pt\; line-height: inherit\; font-family: Arial\, sans-serif\, serif\, EmojiFont\; font-optical-sizing: inherit\; font-kerning: inherit\; font-feature-settings: inherit\; font-variation-settings: inherit\; margin: 0px\; padding: 0px\; vertical-align: baseline\; color: rgb(0\, 0\, 0)\;">Spend a morning engaging your creativity with Access Arts. We&rsquo\;ll be joined by&nbsp\;<span class="markxyyy7daiu" data-markjs="true" data-ogab="" data-ogac="" data-ogsb="" data-ogsc="" style="border: 0px\; font: inherit\; margin: 0px\; padding: 0px\; vertical-align: baseline\; color: inherit\;">Sarah</span>&nbsp\;<span class="mark2n9j021lh" data-markjs="true" data-ogab="" data-ogac="" data-ogsb="" data-ogsc="" style="border: 0px\; font: inherit\; margin: 0px\; padding: 0px\; vertical-align: baseline\; color: inherit\;">Catlin</span>\, Executive Director\, and Lisa Franko\, Director of Youth Programs\, who will share more about the ways Access Arts serves our community and lead us in a hands-on art project.&nbsp\;</span></p>\n\n<div style="border: 0px\; font-variant-numeric: inherit\; font-variant-east-asian: inherit\; font-variant-alternates: inherit\; font-variant-position: inherit\; font-stretch: inherit\; font-size: 15px\; line-height: inherit\; font-family: &quot\;Segoe UI&quot\;\, &quot\;Segoe UI Web (West European)&quot\;\, &quot\;Segoe UI&quot\;\, -apple-system\, BlinkMacSystemFont\, Roboto\, &quot\;Helvetica Neue&quot\;\, sans-serif\; font-optical-sizing: inherit\; font-kerning: inherit\; font-feature-settings: inherit\; font-variation-settings: inherit\; margin: 0px\; padding: 0px\; vertical-align: baseline\; color: rgb(36\, 36\, 36)\;">&nbsp\;</div>\n\n<p style="margin-top: 0pt\; margin-bottom: 0pt\; color: rgb(36\, 36\, 36)\; font-family: &quot\;Segoe UI&quot\;\, &quot\;Segoe UI Web (West European)&quot\;\, &quot\;Segoe UI&quot\;\, -apple-system\, BlinkMacSystemFont\, Roboto\, &quot\;Helvetica Neue&quot\;\, sans-serif\; font-size: 15px\; direction: ltr\; line-height: 1.38\;"><span style="border: 0px\; font-style: inherit\; font-variant: inherit\; font-weight: inherit\; font-stretch: inherit\; font-size: 11pt\; line-height: inherit\; font-family: Arial\, sans-serif\, serif\, EmojiFont\; font-optical-sizing: inherit\; font-kerning: inherit\; font-feature-settings: inherit\; font-variation-settings: inherit\; margin: 0px\; padding: 0px\; vertical-align: baseline\; color: rgb(0\, 0\, 0)\;">Lisa and&nbsp\;<span class="markxyyy7daiu" data-markjs="true" data-ogab="" data-ogac="" data-ogsb="" data-ogsc="" style="border: 0px\; font: inherit\; margin: 0px\; padding: 0px\; vertical-align: baseline\; color: inherit\;">Sarah</span>&nbsp\;will guide you through the process of simple book binding to create your own personalized blank books. Materials will be provided to decorate books in any number of ways\, and each participant will leave with a handmade book ready to be filled with notes\, sketches\, recipes and more!&nbsp\;</span></p>\n\n<div style="border: 0px\; font-variant-numeric: inherit\; font-variant-east-asian: inherit\; font-variant-alternates: inherit\; font-variant-position: inherit\; font-stretch: inherit\; font-size: 15px\; line-height: inherit\; font-family: &quot\;Segoe UI&quot\;\, &quot\;Segoe UI Web (West European)&quot\;\, &quot\;Segoe UI&quot\;\, -apple-system\, BlinkMacSystemFont\, Roboto\, &quot\;Helvetica Neue&quot\;\, sans-serif\; font-optical-sizing: inherit\; font-kerning: inherit\; font-feature-settings: inherit\; font-variation-settings: inherit\; margin: 0px\; padding: 0px\; vertical-align: baseline\; color: rgb(36\, 36\, 36)\;">&nbsp\;</div>\n\n<p style="margin-top: 0pt\; margin-bottom: 0pt\; color: rgb(36\, 36\, 36)\; font-family: &quot\;Segoe UI&quot\;\, &quot\;Segoe UI Web (West European)&quot\;\, &quot\;Segoe UI&quot\;\, -apple-system\, BlinkMacSystemFont\, Roboto\, &quot\;Helvetica Neue&quot\;\, sans-serif\; font-size: 15px\; direction: ltr\; line-height: 1.38\;"><span style="border: 0px\; font-style: inherit\; font-variant: inherit\; font-weight: inherit\; font-stretch: inherit\; font-size: 11pt\; line-height: inherit\; font-family: Arial\, sans-serif\, serif\, EmojiFont\; font-optical-sizing: inherit\; font-kerning: inherit\; font-feature-settings: inherit\; font-variation-settings: inherit\; margin: 0px\; padding: 0px\; vertical-align: baseline\; color: rgb(0\, 0\, 0)\;">Book-making has a long and rich history\, and it provides you with a beautifully decorated space to keep your thoughts and notes handy. Journaling and sketching are also proven ways to meditate and tap into your creative side!&nbsp\;</span></p>\n
LOCATION:Columbia Mall
UID:e.2790.11109
SEQUENCE:3
DTSTAMP:20260426T024049Z
URL:https://business.columbiamochamber.com/events/details/epic-community-engagement-breakfast-emerging-artists-11109
END:VEVENT

END:VCALENDAR
